BEGIN:VCALENDAR
VERSION:2.0
PRODID:-//178.20.216.113//NONSGML kigkonsult.se iCalcreator 2.20//
CALSCALE:GREGORIAN
METHOD:PUBLISH
X-WR-TIMEZONE:UTC
BEGIN:VEVENT
UID:event41@Lm Vestjylland
DTSTAMP:20260420T170145Z
CATEGORIES:Lejre
DESCRIPTION:Seniordag på Hemmet Strand\nKategori: Lejre\nLink: https://www.
 lm-vestjylland.dk/index.php?option=com_jem&view=event&id=41:seniordag-pa-h
 emmet-strand\n
DTSTART;VALUE=DATE:20260616
DTEND;VALUE=DATE:20260617
LOCATION:Hemmet Strand\,Svinkvej 8\,6893 Hemmet
SUMMARY:Seniordag på Hemmet Strand
URL:https://www.lm-vestjylland.dk/index.php?option=com_jem&view=event&id=41
 :seniordag-pa-hemmet-strand
END:VEVENT
END:VCALENDAR